BEGIN:VCALENDAR
VERSION:2.0
PRODID:-//Big John Whitfield - ECPv6.15.20//NONSGML v1.0//EN
CALSCALE:GREGORIAN
METHOD:PUBLISH
X-ORIGINAL-URL:https://bjsoulgospel.com
X-WR-CALDESC:Events for Big John Whitfield
REFRESH-INTERVAL;VALUE=DURATION:PT1H
X-Robots-Tag:noindex
X-PUBLISHED-TTL:PT1H
BEGIN:VTIMEZONE
TZID:Europe/Vienna
BEGIN:DAYLIGHT
TZOFFSETFROM:+0100
TZOFFSETTO:+0200
TZNAME:CEST
DTSTART:20240331T010000
END:DAYLIGHT
BEGIN:STANDARD
TZOFFSETFROM:+0200
TZOFFSETTO:+0100
TZNAME:CET
DTSTART:20241027T010000
END:STANDARD
BEGIN:DAYLIGHT
TZOFFSETFROM:+0100
TZOFFSETTO:+0200
TZNAME:CEST
DTSTART:20250330T010000
END:DAYLIGHT
BEGIN:STANDARD
TZOFFSETFROM:+0200
TZOFFSETTO:+0100
TZNAME:CET
DTSTART:20251026T010000
END:STANDARD
BEGIN:DAYLIGHT
TZOFFSETFROM:+0100
TZOFFSETTO:+0200
TZNAME:CEST
DTSTART:20260329T010000
END:DAYLIGHT
BEGIN:STANDARD
TZOFFSETFROM:+0200
TZOFFSETTO:+0100
TZNAME:CET
DTSTART:20261025T010000
END:STANDARD
END:VTIMEZONE
BEGIN:VEVENT
DTSTART;TZID=Europe/Vienna:20251104T190000
DTEND;TZID=Europe/Vienna:20251104T190000
DTSTAMP:20260420T053355
CREATED:20251027T170012Z
LAST-MODIFIED:20251027T170110Z
UID:7040-1762282800-1762282800@bjsoulgospel.com
SUMMARY:Soul Session Summerstage
DESCRIPTION:  \n \nLive music can be experienced\, danced to and celebrated when US soul singer Big John Whitfield & his soul sister Dina Höblinger invite you to their sessions. The concept is simple: clubs make their venues available and John & Dina perform together with the stars of the scene. \nVarious opener acts & special guests ensure a varied evening before the stage becomes an open stage for jamming together. \nThe result: Funk & Soul Nothing in a class of its own for music lovers - but also a unique opportunity for young musicians and singers to gain stage experience and make new contacts. \nMore info & tickets: Click here
URL:https://bjsoulgospel.com/event/soul-session-summerstage/
LOCATION:Summerstage - Pavillon am Wasser\, Rossauer Lände 17\, Wien\, 1090\, Austria
CATEGORIES:Soul
ATTACH;FMTTYPE=image/jpeg:https://bjsoulgospel.com/wp-content/uploads/2022/03/soulsession-badge.jpg
END:VEVENT
BEGIN:VEVENT
DTSTART;TZID=Europe/Vienna:20251115T180000
DTEND;TZID=Europe/Vienna:20251115T180000
DTSTAMP:20260420T053355
CREATED:20250724T082600Z
LAST-MODIFIED:20250724T082600Z
UID:9705-1763229600-1763229600@bjsoulgospel.com
SUMMARY:Big John & Dinas Soul Session Traismauer
DESCRIPTION:  \n \nLive music can be experienced\, danced to and celebrated when US soul singer Big John Whitfield & his soul sister Dina Höblinger invite you to their sessions. The concept is simple: clubs make their venues available and John & Dina perform together with the stars of the scene. \nVarious opener acts & special guests ensure a varied evening before the stage becomes an open stage for jamming together. \nThe result: Funk & Soul Nothing in a class of its own for music lovers - but also a unique opportunity for young musicians and singers to gain stage experience and make new contacts. \nMore info & tickets: Click here
URL:https://bjsoulgospel.com/event/big-john-dinas-soul-session-traismauer-3/
LOCATION:Saschas Artzone\, Venusberger Straße 1\, Traismauer\, 3133\, Austria
CATEGORIES:Soul
ATTACH;FMTTYPE=image/jpeg:https://bjsoulgospel.com/wp-content/uploads/2022/03/soulsession-badge.jpg
END:VEVENT
BEGIN:VEVENT
DTSTART;TZID=Europe/Vienna:20251118T190000
DTEND;TZID=Europe/Vienna:20251118T190000
DTSTAMP:20260420T053355
CREATED:20251117T160118Z
LAST-MODIFIED:20251117T160118Z
UID:11350-1763492400-1763492400@bjsoulgospel.com
SUMMARY:Big John & Dinas Soul Session Summerstage
DESCRIPTION:  \n \nLive music can be experienced\, danced to and celebrated when US soul singer Big John Whitfield & his soul sister Dina Höblinger invite you to their sessions. The concept is simple: clubs make their venues available and John & Dina perform together with the stars of the scene. \nVarious opener acts & special guests ensure a varied evening before the stage becomes an open stage for jamming together. \nThe result: Funk & Soul Nothing in a class of its own for music lovers - but also a unique opportunity for young musicians and singers to gain stage experience and make new contacts. \nMore info & tickets: Click here
URL:https://bjsoulgospel.com/event/big-john-dinas-soul-session-summerstage-11/
LOCATION:Summerstage - Pavillon am Wasser\, Rossauer Lände 17\, Wien\, 1090\, Austria
CATEGORIES:Soul
ATTACH;FMTTYPE=image/jpeg:https://bjsoulgospel.com/wp-content/uploads/2022/03/soulsession-badge.jpg
END:VEVENT
BEGIN:VEVENT
DTSTART;TZID=Europe/Vienna:20251129T190000
DTEND;TZID=Europe/Vienna:20251129T190000
DTSTAMP:20260420T053355
CREATED:20250724T090437Z
LAST-MODIFIED:20250903T131220Z
UID:9756-1764442800-1764442800@bjsoulgospel.com
SUMMARY:The International Gospel Society - Lisztzentrum Raiding
DESCRIPTION:Kommen Sie zur Christmas Gospeltour 2025 der INTERNATIONAL GOSPEL SOCIETY!\nAm 29.11.2025 spielt die International Gospel Society im Lisztzentrum in Raiding\, Burgenland. Auf unserer Tour queer durch Österreich wollen wir Ihnen die Adventszeit 2025 mit traditionellen Spirituals versüßen!\nLeadsänger und Gründer Big John Whitfield (Oklahoma\, USA) und sein Chor werden mit ihrer kraftvollen Performance den Spirit of Soul auch in Ihre Stadt bringen.\nGänsehaut und gute Laune sind garantiert\, denn weltbekannte Gospel-Hits wie „Amazing Grace"\, „Oh When The Saints“ oder „Oh Happy Day“ laden zum singen\, klatschen und tanzen ein. Kraftvolle Performances\, fesselnde Arrangements und das überschäumende Temperament der INTERNATIONAL GOSPEL SOCIETY versprühen pure Lebensfreude. Mit ihrer mitreißenden Livemusik und purer Emotion\, spielten sie bereits zahlreiche ausverkaufte Konzerte u.a. in der Wiener Karlskirche und dem Mariendom in Linz. \nGenießen Sie das atemberaubende Gospel Konzert im Lisztzentrum\, Raiding. \nWerden auch Sie Teil vom Spirit der INTERNATIONAL GOSPEL SOCIETY! \nTickets erhältlich auf www.oetickets.com
URL:https://bjsoulgospel.com/event/the-international-gospel-society-lisztzentrum-raiding-2/
LOCATION:Lisztzentrum Raiding\, Lisztstraße 46\, Raiding\, 7321\, Austria
CATEGORIES:Gospel
ATTACH;FMTTYPE=image/png:https://bjsoulgospel.com/wp-content/uploads/2022/03/gospel-badge.png
ORGANIZER;CN="The International Gospel Society with Big John":MAILTO:info@bjsoulgospel.com
END:VEVENT
BEGIN:VEVENT
DTSTART;TZID=Europe/Vienna:20251130T153000
DTEND;TZID=Europe/Vienna:20251130T153000
DTSTAMP:20260420T053355
CREATED:20250724T091032Z
LAST-MODIFIED:20250903T130610Z
UID:9770-1764516600-1764516600@bjsoulgospel.com
SUMMARY:The International Gospel Society - Stiftskirche Herzogenburg
DESCRIPTION:Kommen Sie zur Christmas Gospeltour 2025 der INTERNATIONAL GOSPEL SOCIETY!\nAm 30.11.2025 spielt die International Gospel Society in der Stiftskirche Herzogenburg\, Niederösterreich. Auf unserer Tour queer durch Österreich wollen wir Ihnen die Adventszeit 2025 mit traditionellen Spirituals versüßen!\nLeadsänger und Gründer Big John Whitfield (Oklahoma\, USA) und sein Chor werden mit ihrer kraftvollen Performance den Spirit of Soul auch in Ihre Stadt bringen.\nGänsehaut und gute Laune sind garantiert\, denn weltbekannte Gospel-Hits wie „Amazing Grace"\, „Oh When The Saints“ oder „Oh Happy Day“ laden zum singen\, klatschen und tanzen ein. Kraftvolle Performances\, fesselnde Arrangements und das überschäumende Temperament der INTERNATIONAL GOSPEL SOCIETY versprühen pure Lebensfreude. Mit ihrer mitreißenden Livemusik und purer Emotion\, spielten sie bereits zahlreiche ausverkaufte Konzerte u.a. in der Wiener Karlskirche und dem Mariendom in Linz. \nGenießen Sie das atemberaubende Gospel Konzert in der Stiftskirche Herzogenburg. \nWerden auch Sie Teil vom Spirit der INTERNATIONAL GOSPEL SOCIETY! \nTickets erhältlich auf www.oeticket.com und in allen oeticket Vertriebsstellen sowie Volksbank & Trachtenliebe Herzogenburg - oder einfach den QR-Code scannen:
URL:https://bjsoulgospel.com/event/the-international-gospel-society-stiftskirche-herzogenburg/
LOCATION:Stiftskirche Herzogenburg\, Prandtauerring 2\, Herzogenburg\, 3130\, Austria
CATEGORIES:Gospel
ATTACH;FMTTYPE=image/png:https://bjsoulgospel.com/wp-content/uploads/2022/03/gospel-badge.png
ORGANIZER;CN="The International Gospel Society with Big John":MAILTO:info@bjsoulgospel.com
END:VEVENT
END:VCALENDAR