BEGIN:VCALENDAR
VERSION:2.0
PRODID:-//Big John Whitfield - ECPv6.15.20//NONSGML v1.0//EN
CALSCALE:GREGORIAN
METHOD:PUBLISH
X-ORIGINAL-URL:https://bjsoulgospel.com
X-WR-CALDESC:Events for Big John Whitfield
REFRESH-INTERVAL;VALUE=DURATION:PT1H
X-Robots-Tag:noindex
X-PUBLISHED-TTL:PT1H
BEGIN:VTIMEZONE
TZID:Europe/Vienna
BEGIN:DAYLIGHT
TZOFFSETFROM:+0100
TZOFFSETTO:+0200
TZNAME:CEST
DTSTART:20250330T010000
END:DAYLIGHT
BEGIN:STANDARD
TZOFFSETFROM:+0200
TZOFFSETTO:+0100
TZNAME:CET
DTSTART:20251026T010000
END:STANDARD
BEGIN:DAYLIGHT
TZOFFSETFROM:+0100
TZOFFSETTO:+0200
TZNAME:CEST
DTSTART:20260329T010000
END:DAYLIGHT
BEGIN:STANDARD
TZOFFSETFROM:+0200
TZOFFSETTO:+0100
TZNAME:CET
DTSTART:20261025T010000
END:STANDARD
BEGIN:DAYLIGHT
TZOFFSETFROM:+0100
TZOFFSETTO:+0200
TZNAME:CEST
DTSTART:20270328T010000
END:DAYLIGHT
BEGIN:STANDARD
TZOFFSETFROM:+0200
TZOFFSETTO:+0100
TZNAME:CET
DTSTART:20271031T010000
END:STANDARD
END:VTIMEZONE
BEGIN:VEVENT
DTSTART;TZID=Europe/Vienna:20260721T180000
DTEND;TZID=Europe/Vienna:20260721T180000
DTSTAMP:20260420T081946
CREATED:20260414T120849Z
LAST-MODIFIED:20260414T120932Z
UID:15128-1784656800-1784656800@bjsoulgospel.com
SUMMARY:Big John & Dinas Soul Session Summerstage
DESCRIPTION:  \n \nLive music can be experienced\, danced to and celebrated when US soul singer Big John Whitfield & his soul sister Dina Höblinger invite you to their sessions. The concept is simple: clubs make their venues available and John & Dina perform together with the stars of the scene. \nVarious opener acts & special guests ensure a varied evening before the stage becomes an open stage for jamming together. \nThe result: Funk & Soul Nothing in a class of its own for music lovers - but also a unique opportunity for young musicians and singers to gain stage experience and make new contacts. \nMore info & tickets: Click here
URL:https://bjsoulgospel.com/event/soul-session-summerstage-21072026/
LOCATION:Summerstage - Pavillon am Wasser\, Rossauer Lände 17\, Wien\, 1090\, Austria
CATEGORIES:Soul
ATTACH;FMTTYPE=image/jpeg:https://bjsoulgospel.com/wp-content/uploads/2022/03/soulsession-badge.jpg
END:VEVENT
END:VCALENDAR