BEGIN:VCALENDAR
VERSION:2.0
PRODID:-//Big John Whitfield - ECPv6.15.20//NONSGML v1.0//EN
CALSCALE:GREGORIAN
METHOD:PUBLISH
X-ORIGINAL-URL:https://bjsoulgospel.com
X-WR-CALDESC:Events for Big John Whitfield
REFRESH-INTERVAL;VALUE=DURATION:PT1H
X-Robots-Tag:noindex
X-PUBLISHED-TTL:PT1H
BEGIN:VTIMEZONE
TZID:Europe/Vienna
BEGIN:DAYLIGHT
TZOFFSETFROM:+0100
TZOFFSETTO:+0200
TZNAME:CEST
DTSTART:20240331T010000
END:DAYLIGHT
BEGIN:STANDARD
TZOFFSETFROM:+0200
TZOFFSETTO:+0100
TZNAME:CET
DTSTART:20241027T010000
END:STANDARD
BEGIN:DAYLIGHT
TZOFFSETFROM:+0100
TZOFFSETTO:+0200
TZNAME:CEST
DTSTART:20250330T010000
END:DAYLIGHT
BEGIN:STANDARD
TZOFFSETFROM:+0200
TZOFFSETTO:+0100
TZNAME:CET
DTSTART:20251026T010000
END:STANDARD
BEGIN:DAYLIGHT
TZOFFSETFROM:+0100
TZOFFSETTO:+0200
TZNAME:CEST
DTSTART:20260329T010000
END:DAYLIGHT
BEGIN:STANDARD
TZOFFSETFROM:+0200
TZOFFSETTO:+0100
TZNAME:CET
DTSTART:20261025T010000
END:STANDARD
END:VTIMEZONE
BEGIN:VEVENT
DTSTART;TZID=Europe/Vienna:20251206T180000
DTEND;TZID=Europe/Vienna:20251206T180000
DTSTAMP:20260420T054001
CREATED:20250724T091329Z
LAST-MODIFIED:20250903T125656Z
UID:9773-1765044000-1765044000@bjsoulgospel.com
SUMMARY:The International Gospel Society - Evangelische Pfarrgemeinde Gols
DESCRIPTION:Kommen Sie zur Christmas Gospeltour 2025 der INTERNATIONAL GOSPEL SOCIETY! \nAm 06.12.2025 spielt die International Gospel Society in der Evangelischen Pfarrkirche in Gols\, Burgenland. Auf unserer Tour queer durch Österreich und im Ausland wollen wir Ihnen die Adventszeit 2025 mit traditionellen Spirituals versüßen! \nLeadsänger und Gründer Big John Whitfield (Oklahoma\, USA) und sein Chor werden mit ihrer kraftvollen Performance den Spirit of Soul auch in Ihre Stadt bringen. Gänsehaut und gute Laune sind garantiert\, denn weltbekannte Gospel-Hits wie „Amazing Grace"\, „Oh When The Saints“ oder „Oh Happy Day“ laden zum singen\, klatschen und tanzen ein. Kraftvolle Performances\, fesselnde Arrangements und das überschäumende Temperament der INTERNATIONAL GOSPEL SOCIETY versprühen pure Lebensfreude. Mit ihrer mitreißenden Livemusik und purer Emotion\, spielten sie\nbereits mehrmals ausverkaufte Konzerte u.a. in der Wiener Karlskirche und dem Mariendom in Linz. \nGenießen Sie das atemberaubende Gospel Konzert in der Evangelischen Pfarrkirche Gols. \nWerden auch Sie Teil vom Spirit der INTERNATIONAL GOSPEL SOCIETY! \nTickets erhältlich auf www.oeticket.com und in allen oeticket Vertriebsstellen sowie Trafik Göltl-Langer und S'Lesekistl in Gols - oder einfach den QR-Code scannen:
URL:https://bjsoulgospel.com/event/the-international-gospel-society-evangelische-pfarrgemeinde-gols/
LOCATION:Gols Evangelische Pfarrgemeinde\, Doktor-Martin-Luther-Platz 1\, Gols\, Niederösterreich\, 7122\, Österreich
CATEGORIES:Gospel
ATTACH;FMTTYPE=image/png:https://bjsoulgospel.com/wp-content/uploads/2022/03/gospel-badge.png
ORGANIZER;CN="The International Gospel Society with Big John":MAILTO:info@bjsoulgospel.com
END:VEVENT
END:VCALENDAR